BEGIN:VCALENDAR
VERSION:2.0
PRODID:-//MyPace - ECPv5.16.4//NONSGML v1.0//EN
CALSCALE:GREGORIAN
METHOD:PUBLISH
X-ORIGINAL-URL:https://www.mypacesport.com
X-WR-CALDESC:Events for MyPace
REFRESH-INTERVAL;VALUE=DURATION:PT1H
X-Robots-Tag:noindex
X-PUBLISHED-TTL:PT1H
BEGIN:VTIMEZONE
TZID:Asia/Shanghai
BEGIN:STANDARD
TZOFFSETFROM:+0800
TZOFFSETTO:+0800
TZNAME:CST
DTSTART:20240101T000000
END:STANDARD
END:VTIMEZONE
BEGIN:VEVENT
DTSTART;TZID=Asia/Shanghai:20240914T200000
DTEND;TZID=Asia/Shanghai:20240914T220000
DTSTAMP:20260422T093706
CREATED:20240724T164231Z
LAST-MODIFIED:20240724T165801Z
UID:14878-1726344000-1726351200@www.mypacesport.com
SUMMARY:NEON NIGHT RUN @ BATU KAWAN 2024
DESCRIPTION:        \n	\n		\n			\n			\n\n			\n	\n			\n\n\n			\n	\n		Larian Silaturahim 2025	\n\n\n			\n			\n	 \n		\n	\nMAKLUMAT ACARA LARIAN SILATURAHIM 2025 🤝 Anjuran:– Al Ghufran Event Management – Koperasi Kariah Masjid Masjid Timah Perai Berhad Dengan Kerjasama:– Masjid Kariah Kg Masjid Timah– Al Hadad Group– SP Channel– Utara Runnaz– Winner Apparel ▶️Tarikh: 25/12/2025 (Khamis)▶️Flag Off: 7.30 Pagi▶️Tempat: Perkarangan Masjid Kariah Kg Masjid Timah\, Permatang Pauh▶️Jarak: 5 KM ✅ Terbuka Kepada Umum✅Terbuka Lelaki & Wanita✅Umur 7 Hingga 60 tahun✅Warganegara Malaysia✅Sihat Tubuh Badan Peserta Berdaftar Diberikan:👕T-Shirt Sublimation🏅Medal Penamat📜E-Sijil Penyertaan🧋Makan/Minum Ringan🎁Cabutan Bertuah – pelbagai hadiah menarik menanti anda TARIKH TUTUP : 20 November 2025 👕Serahan T-Shirt🥼Tarikh: 24 Disember 2025 (Rabu) Masa: 10.00 pagi – 6.00 petang Tempat : Al Ghufran Agency (Al Ghufran Sdn Bhd)No. 36\, Jalan Perda Selatan\, Bandar Perda\, 14000 Bukit Mertajam(Sebelah Bank Islam Bandar Perda)  
URL:https://www.mypacesport.com/event/neon_run_batu_kawan_2024/
LOCATION:Design Village Mall Batu Kawan\, Design Village Outlet Mall (DVOM)\, Batu Kawan\, Penang\, 14110\, Malaysia
CATEGORIES:On Ground Event,Sports
ATTACH;FMTTYPE=image/jpeg:https://www.mypacesport.com/wp-content/uploads/2024/07/WhatsApp-Image-2024-07-24-at-1.42.55-AM.jpeg
END:VEVENT
BEGIN:VEVENT
DTSTART;TZID=Asia/Shanghai:20240929T070000
DTEND;TZID=Asia/Shanghai:20240929T110000
DTSTAMP:20260422T093706
CREATED:20240716T172410Z
LAST-MODIFIED:20240725T060804Z
UID:14772-1727593200-1727607600@www.mypacesport.com
SUMMARY:RIVERSIDE FUN RUN 2024
DESCRIPTION:        \n	\n		\n			\n			\n\n			\n	\n			\n\n\n			\n	\n		Larian Silaturahim 2025	\n\n\n			\n			\n	 \n		\n	\nMAKLUMAT ACARA LARIAN SILATURAHIM 2025 🤝 Anjuran:– Al Ghufran Event Management – Koperasi Kariah Masjid Masjid Timah Perai Berhad Dengan Kerjasama:– Masjid Kariah Kg Masjid Timah– Al Hadad Group– SP Channel– Utara Runnaz– Winner Apparel ▶️Tarikh: 25/12/2025 (Khamis)▶️Flag Off: 7.30 Pagi▶️Tempat: Perkarangan Masjid Kariah Kg Masjid Timah\, Permatang Pauh▶️Jarak: 5 KM ✅ Terbuka Kepada Umum✅Terbuka Lelaki & Wanita✅Umur 7 Hingga 60 tahun✅Warganegara Malaysia✅Sihat Tubuh Badan Peserta Berdaftar Diberikan:👕T-Shirt Sublimation🏅Medal Penamat📜E-Sijil Penyertaan🧋Makan/Minum Ringan🎁Cabutan Bertuah – pelbagai hadiah menarik menanti anda TARIKH TUTUP : 20 November 2025 👕Serahan T-Shirt🥼Tarikh: 24 Disember 2025 (Rabu) Masa: 10.00 pagi – 6.00 petang Tempat : Al Ghufran Agency (Al Ghufran Sdn Bhd)No. 36\, Jalan Perda Selatan\, Bandar Perda\, 14000 Bukit Mertajam(Sebelah Bank Islam Bandar Perda)  
URL:https://www.mypacesport.com/event/riverside_funrun_2024/
LOCATION:Jeti Kampung Terus\, 14400 Kubang Semang\, Penang\, Malaysia
CATEGORIES:On Ground Event,Sports
ATTACH;FMTTYPE=image/jpeg:https://www.mypacesport.com/wp-content/uploads/2024/07/WhatsApp-Image-2024-07-16-at-7.44.52-PM.jpeg
END:VEVENT
END:VCALENDAR