BEGIN:VCALENDAR
VERSION:2.0
PRODID:-//MyPace - ECPv5.16.4//NONSGML v1.0//EN
CALSCALE:GREGORIAN
METHOD:PUBLISH
X-WR-CALNAME:MyPace
X-ORIGINAL-URL:https://www.mypacesport.com
X-WR-CALDESC:Events for MyPace
REFRESH-INTERVAL;VALUE=DURATION:PT1H
X-Robots-Tag:noindex
X-PUBLISHED-TTL:PT1H
BEGIN:VTIMEZONE
TZID:Asia/Shanghai
BEGIN:STANDARD
TZOFFSETFROM:+0800
TZOFFSETTO:+0800
TZNAME:CST
DTSTART:20220101T000000
END:STANDARD
END:VTIMEZONE
BEGIN:VEVENT
DTSTART;TZID=Asia/Shanghai:20220913T003000
DTEND;TZID=Asia/Shanghai:20221007T233000
DTSTAMP:20260422T164138
CREATED:20220903T165756Z
LAST-MODIFIED:20220926T100021Z
UID:8617-1663029000-1665185400@www.mypacesport.com
SUMMARY:Road To Hari Sukan Negara Pulau Pinang 2022 5KM Virtual Run
DESCRIPTION:Road To Hari Sukan Negara Pulau Pinang 2022 5KM Virtual Run	\n\n\n			\n			\n	 \n		\n	\n\n\nRunning Distance : 5km\nor Walking Distance : 6562 Steps\nRegistration Close : 6 October 2022\nRunning Period : 13 September until 7 October 2022\nSubmission Deadline : 7 October 2022\nShipping of Entitlements : 2 October 2022 (Register Before 20 September 2022)\, 28 October 2022 (Register After 20 September 2022) \n \n 
URL:https://www.mypacesport.com/event/road-to-hari-sukan-negara-pulau-pinang-2022-5km-virtual-run/
LOCATION:Anywhere
CATEGORIES:Sports,Virtual Run
ATTACH;FMTTYPE=image/png:https://www.mypacesport.com/wp-content/uploads/2022/09/mp-rthsn2022-banner.png
END:VEVENT
END:VCALENDAR